BEGIN:VCALENDAR
VERSION:2.0
PRODID:-//Brightstar Consulting, LLC - ECPv6.15.20//NONSGML v1.0//EN
CALSCALE:GREGORIAN
METHOD:PUBLISH
X-ORIGINAL-URL:https://brightstarllc.org
X-WR-CALDESC:Events for Brightstar Consulting, LLC
REFRESH-INTERVAL;VALUE=DURATION:PT1H
X-Robots-Tag:noindex
X-PUBLISHED-TTL:PT1H
BEGIN:VTIMEZONE
TZID:UTC
BEGIN:STANDARD
TZOFFSETFROM:+0000
TZOFFSETTO:+0000
TZNAME:UTC
DTSTART:20250101T000000
END:STANDARD
END:VTIMEZONE
BEGIN:VEVENT
DTSTART;TZID=UTC:20260624T140000
DTEND;TZID=UTC:20260624T190000
DTSTAMP:20260424T203620
CREATED:20260325T003445Z
LAST-MODIFIED:20260325T004205Z
UID:518-1782309600-1782327600@brightstarllc.org
SUMMARY:JOIN US FOR UPLIFT HER 2026 - BRIGHTSTAR WILL BE IN THE HOUSE!
DESCRIPTION:
URL:https://brightstarllc.org/event/join-us-for-uplift-her-2026-brightstar-will-be-in-the-house/
LOCATION:COLUMBUS CONVENTION CENTER\, 400 N. HIGH ST\, COLUMBUS\, OHIO\, 43215
ATTACH;FMTTYPE=image/webp:https://brightstarllc.org/wp-content/uploads/2026/03/Uplift-Her-2026.webp
END:VEVENT
END:VCALENDAR